BEGIN:VCALENDAR
VERSION:2.0
PRODID:spatie/icalendar-generator
DESCRIPTION:Events from The Mark Miller Band
X-WR-CALDESC:Events from The Mark Miller Band
REFRESH-INTERVAL;VALUE=DURATION:PT1440M
X-PUBLISHED-TTL:PT1440M
BEGIN:VTIMEZONE
TZID:Etc/GMT+0
BEGIN:STANDARD
DTSTART:20220816T210000Z
TZOFFSETFROM:+0000
TZOFFSETTO:+0000
END:STANDARD
END:VTIMEZONE
BEGIN:VTIMEZONE
TZID:UTC
BEGIN:STANDARD
DTSTART:20250726T114221Z
TZOFFSETFROM:+0000
TZOFFSETTO:+0000
END:STANDARD
END:VTIMEZONE
BEGIN:VEVENT
UID:313-56
DTSTAMP:20260422T114221Z
SUMMARY:Renegade- El Cajon\, CA
LOCATION:Renegade Country Western 14335 Olde Highway 80  El Cajon CA
ORGANIZER;CN=admin:MAILTO:dan@redhawkgraphics.com
DTSTART;TZID=Etc/GMT+0:20230513T210000
DTEND;TZID=Etc/GMT+0:20230513T235900
X-ALT-DESC;FMTTYPE=TEXT/HTML:
CATEGORIES:General
URL;VALUE=URI:https://markmillerband.com/mc-events/renegade-el-cajon-ca/
METHOD:PUBLISH
END:VEVENT
END:VCALENDAR