BEGIN:VCALENDAR
VERSION:2.0
PRODID:spatie/icalendar-generator
DESCRIPTION:Events from The Mark Miller Band
X-WR-CALDESC:Events from The Mark Miller Band
REFRESH-INTERVAL;VALUE=DURATION:PT1440M
X-PUBLISHED-TTL:PT1440M
BEGIN:VTIMEZONE
TZID:Etc/GMT+0
BEGIN:STANDARD
DTSTART:20240102T190000Z
TZOFFSETFROM:+0000
TZOFFSETTO:+0000
END:STANDARD
END:VTIMEZONE
BEGIN:VTIMEZONE
TZID:UTC
BEGIN:STANDARD
DTSTART:20250729T165236Z
TZOFFSETFROM:+0000
TZOFFSETTO:+0000
END:STANDARD
END:VTIMEZONE
BEGIN:VEVENT
UID:403-97
DTSTAMP:20260425T165236Z
SUMMARY:The Corral at White Tank Ranch
LOCATION:The Corral at White Tank Ranch 20298 W Olive Ave.   Waddell AZ  85
 355
ORGANIZER;CN=admin:MAILTO:dan@redhawkgraphics.com
DTSTART;TZID=Etc/GMT+0:20240928T190000
DTEND;TZID=Etc/GMT+0:20240928T220000
X-ALT-DESC;FMTTYPE=TEXT/HTML:http://whitetankcorral.com/ 20298 W Olive Ave\
 , Waddell\, AZ 85355
CATEGORIES:General
URL;VALUE=URI:https://markmillerband.com/mc-events/the-corral-at-white-tank
 -ranch/
METHOD:PUBLISH
END:VEVENT
END:VCALENDAR