BEGIN:VCALENDAR
VERSION:2.0
PRODID:spatie/icalendar-generator
DESCRIPTION:Events from The Mark Miller Band
X-WR-CALDESC:Events from The Mark Miller Band
REFRESH-INTERVAL;VALUE=DURATION:PT1440M
X-PUBLISHED-TTL:PT1440M
BEGIN:VTIMEZONE
TZID:Etc/GMT+0
BEGIN:STANDARD
DTSTART:20230827T200000Z
TZOFFSETFROM:+0000
TZOFFSETTO:+0000
END:STANDARD
END:VTIMEZONE
BEGIN:VTIMEZONE
TZID:UTC
BEGIN:STANDARD
DTSTART:20250730T023118Z
TZOFFSETFROM:+0000
TZOFFSETTO:+0000
END:STANDARD
END:VTIMEZONE
BEGIN:VEVENT
UID:398-92
DTSTAMP:20260426T023118Z
SUMMARY:Stoney's North Forty- Las Vegas
LOCATION:
ORGANIZER;CN=admin:MAILTO:dan@redhawkgraphics.com
DTSTART;TZID=Etc/GMT+0:20240523T200000
DTEND;TZID=Etc/GMT+0:20240523T220000
X-ALT-DESC;FMTTYPE=TEXT/HTML:
CATEGORIES:General
URL;VALUE=URI:https://markmillerband.com/mc-events/stoneys-north-forty-las-
 vegas/
METHOD:PUBLISH
END:VEVENT
END:VCALENDAR